BEGIN:VCALENDAR
VERSION:2.0
PRODID:-//St. Bartholomew + St. Mary Parishes - ECPv6.15.20//NONSGML v1.0//EN
CALSCALE:GREGORIAN
METHOD:PUBLISH
X-WR-CALNAME:St. Bartholomew + St. Mary Parishes
X-ORIGINAL-URL:https://saintbartholomew.net
X-WR-CALDESC:Events for St. Bartholomew + St. Mary Parishes
REFRESH-INTERVAL;VALUE=DURATION:PT1H
X-Robots-Tag:noindex
X-PUBLISHED-TTL:PT1H
BEGIN:VTIMEZONE
TZID:America/Chicago
BEGIN:DAYLIGHT
TZOFFSETFROM:-0600
TZOFFSETTO:-0500
TZNAME:CDT
DTSTART:20210314T080000
END:DAYLIGHT
BEGIN:STANDARD
TZOFFSETFROM:-0500
TZOFFSETTO:-0600
TZNAME:CST
DTSTART:20211107T070000
END:STANDARD
BEGIN:DAYLIGHT
TZOFFSETFROM:-0600
TZOFFSETTO:-0500
TZNAME:CDT
DTSTART:20220313T080000
END:DAYLIGHT
BEGIN:STANDARD
TZOFFSETFROM:-0500
TZOFFSETTO:-0600
TZNAME:CST
DTSTART:20221106T070000
END:STANDARD
BEGIN:DAYLIGHT
TZOFFSETFROM:-0600
TZOFFSETTO:-0500
TZNAME:CDT
DTSTART:20230312T080000
END:DAYLIGHT
BEGIN:STANDARD
TZOFFSETFROM:-0500
TZOFFSETTO:-0600
TZNAME:CST
DTSTART:20231105T070000
END:STANDARD
END:VTIMEZONE
BEGIN:VEVENT
DTSTART;VALUE=DATE:20220816
DTEND;VALUE=DATE:20220817
DTSTAMP:20260423T164118
CREATED:20220709T031649Z
LAST-MODIFIED:20220709T031649Z
UID:3595-1660608000-1660694399@saintbartholomew.net
SUMMARY:Drawing for Sportsmen's Night Out Raffle
DESCRIPTION:KnightOutPoster2022 Raffle copy (1)
URL:https://saintbartholomew.net/event/drawing-for-sportsmens-night-out-raffle/
END:VEVENT
END:VCALENDAR