BEGIN:VCALENDAR
VERSION:2.0
PRODID:-//St. Bartholomew + St. Mary Parishes - ECPv6.15.20//NONSGML v1.0//EN
CALSCALE:GREGORIAN
METHOD:PUBLISH
X-WR-CALNAME:St. Bartholomew + St. Mary Parishes
X-ORIGINAL-URL:https://saintbartholomew.net
X-WR-CALDESC:Events for St. Bartholomew + St. Mary Parishes
REFRESH-INTERVAL;VALUE=DURATION:PT1H
X-Robots-Tag:noindex
X-PUBLISHED-TTL:PT1H
BEGIN:VTIMEZONE
TZID:America/Chicago
BEGIN:DAYLIGHT
TZOFFSETFROM:-0600
TZOFFSETTO:-0500
TZNAME:CDT
DTSTART:20210314T080000
END:DAYLIGHT
BEGIN:STANDARD
TZOFFSETFROM:-0500
TZOFFSETTO:-0600
TZNAME:CST
DTSTART:20211107T070000
END:STANDARD
BEGIN:DAYLIGHT
TZOFFSETFROM:-0600
TZOFFSETTO:-0500
TZNAME:CDT
DTSTART:20220313T080000
END:DAYLIGHT
BEGIN:STANDARD
TZOFFSETFROM:-0500
TZOFFSETTO:-0600
TZNAME:CST
DTSTART:20221106T070000
END:STANDARD
BEGIN:DAYLIGHT
TZOFFSETFROM:-0600
TZOFFSETTO:-0500
TZNAME:CDT
DTSTART:20230312T080000
END:DAYLIGHT
BEGIN:STANDARD
TZOFFSETFROM:-0500
TZOFFSETTO:-0600
TZNAME:CST
DTSTART:20231105T070000
END:STANDARD
END:VTIMEZONE
BEGIN:VEVENT
DTSTART;TZID=America/Chicago:20220909T093000
DTEND;TZID=America/Chicago:20220909T110000
DTSTAMP:20260423T164118
CREATED:20220909T193200Z
LAST-MODIFIED:20220909T193200Z
UID:3680-1662715800-1662721200@saintbartholomew.net
SUMMARY:Donuts & Coffee | Basket & Raffle Drawing
DESCRIPTION:
URL:https://saintbartholomew.net/event/donuts-coffee-basket-raffle-drawing/
END:VEVENT
END:VCALENDAR